BEGIN:VCALENDAR
VERSION:2.0
PRODID:icalendar-ruby
CALSCALE:GREGORIAN
METHOD:PUBLISH
BEGIN:VEVENT
DTSTAMP:20260421T084421Z
UID:63-176212@stmarymagdalenechurch.org
DTSTART:20251016T010000Z
DTEND:20251016T021500Z
CLASS:PUBLIC
CREATED:20251003T045628
DESCRIPTION:
LAST-MODIFIED:20251003T045628
LOCATION:
SUMMARY:Adult Education
URL;VALUE=URI:https://stmarymagdalenechurch.org/events/adult-education--63/
 2025-10-15
END:VEVENT
END:VCALENDAR
