BEGIN:VCALENDAR
VERSION:2.0
PRODID:icalendar-ruby
CALSCALE:GREGORIAN
METHOD:PUBLISH
BEGIN:VEVENT
DTSTAMP:20260421T114935Z
UID:258-180117@stmarymagdalenechurch.org
DTSTART:20260421T173000Z
DTEND:20260421T183000Z
CLASS:PUBLIC
CREATED:20260420T092223
DESCRIPTION:
LAST-MODIFIED:20260420T092223
LOCATION:
SUMMARY:Tuesday Morning Book Club
URL;VALUE=URI:https://stmarymagdalenechurch.org/events/tuesday-morning-book
 -club/2026-04-21
END:VEVENT
END:VCALENDAR
